BEGIN:VCALENDAR
VERSION:2.0
PRODID:-//Intand Corporation//Tandem//EN
METHOD:PUBLISH
BEGIN:VEVENT
DTSTAMP:20260420T074006Z
DTSTART:20260515T210000Z
DTEND:20260516T013000Z
TRANSP:TRANSPARENT
PRIORITY:0
SUMMARY:Diamond Dance Studio
LOCATION:SISD Auditorium (prior approval required)
DESCRIPTION:Groups:\nEnergy Management\n\nSchools:\nSeminole ISD\n\nLocati
 on:\nSISD Auditorium (prior approval required)\n\nPractice\n\n
URL;VALUE=URI:http://jh.seminoleisd.tandem.co/index.php?type=view&action=e
 vent&id=49491
CREATED:20251211T142352Z
LAST-MODIFIED:20251211T142352Z
UID:event-49491-seminoleisd@intand.com
END:VEVENT
END:VCALENDAR
